BEGIN:VCALENDAR
VERSION:2.0
PRODID:-//Friendly Sons of the Shillelagh - ECPv6.15.20//NONSGML v1.0//EN
CALSCALE:GREGORIAN
METHOD:PUBLISH
X-ORIGINAL-URL:https://essexshillelagh.com
X-WR-CALDESC:Events for Friendly Sons of the Shillelagh
REFRESH-INTERVAL;VALUE=DURATION:PT1H
X-Robots-Tag:noindex
X-PUBLISHED-TTL:PT1H
BEGIN:VTIMEZONE
TZID:America/New_York
BEGIN:DAYLIGHT
TZOFFSETFROM:-0500
TZOFFSETTO:-0400
TZNAME:EDT
DTSTART:20240310T070000
END:DAYLIGHT
BEGIN:STANDARD
TZOFFSETFROM:-0400
TZOFFSETTO:-0500
TZNAME:EST
DTSTART:20241103T060000
END:STANDARD
BEGIN:DAYLIGHT
TZOFFSETFROM:-0500
TZOFFSETTO:-0400
TZNAME:EDT
DTSTART:20250309T070000
END:DAYLIGHT
BEGIN:STANDARD
TZOFFSETFROM:-0400
TZOFFSETTO:-0500
TZNAME:EST
DTSTART:20251102T060000
END:STANDARD
BEGIN:DAYLIGHT
TZOFFSETFROM:-0500
TZOFFSETTO:-0400
TZNAME:EDT
DTSTART:20260308T070000
END:DAYLIGHT
BEGIN:STANDARD
TZOFFSETFROM:-0400
TZOFFSETTO:-0500
TZNAME:EST
DTSTART:20261101T060000
END:STANDARD
END:VTIMEZONE
BEGIN:VEVENT
DTSTART;VALUE=DATE:20250302
DTEND;VALUE=DATE:20250303
DTSTAMP:20260420T052355
CREATED:20250211T024107Z
LAST-MODIFIED:20250211T024107Z
UID:212-1740873600-1740959999@essexshillelagh.com
SUMMARY:Belmar St. Patrick's Day Parade
DESCRIPTION:
URL:https://essexshillelagh.com/event/belmar-st-patricks-day-parade/
LOCATION:NJ
END:VEVENT
BEGIN:VEVENT
DTSTART;TZID=America/New_York:20250304T193000
DTEND;TZID=America/New_York:20250304T213000
DTSTAMP:20260420T052355
CREATED:20250211T024219Z
LAST-MODIFIED:20250211T024230Z
UID:214-1741116600-1741123800@essexshillelagh.com
SUMMARY:Shillelagh Executive Board Meeting
DESCRIPTION:All are welcome to attend.
URL:https://essexshillelagh.com/event/shillelagh-executive-board-meeting/
LOCATION:Shillelagh Club\, 648 Prospect Ave\, West Orange\, NJ\, 07052\, United States
END:VEVENT
BEGIN:VEVENT
DTSTART;VALUE=DATE:20250307
DTEND;VALUE=DATE:20250308
DTSTAMP:20260420T052355
CREATED:20250211T024306Z
LAST-MODIFIED:20250211T024306Z
UID:217-1741305600-1741391999@essexshillelagh.com
SUMMARY:FSOS/O'Hara St. Patrick's Day Party\, Shillelagh Club
DESCRIPTION:
URL:https://essexshillelagh.com/event/fsos-ohara-st-patricks-day-party-shillelagh-club/
LOCATION:Shillelagh Club\, 648 Prospect Ave\, West Orange\, NJ\, 07052\, United States
END:VEVENT
BEGIN:VEVENT
DTSTART;TZID=America/New_York:20250312T193000
DTEND;TZID=America/New_York:20250312T213000
DTSTAMP:20260420T052355
CREATED:20250211T024400Z
LAST-MODIFIED:20250514T170838Z
UID:219-1741807800-1741815000@essexshillelagh.com
SUMMARY:Shillelagh Monthly General Meeting
DESCRIPTION:
URL:https://essexshillelagh.com/event/shillelagh-monthly-general-meeting/
LOCATION:Shillelagh Club\, 648 Prospect Ave\, West Orange\, NJ\, 07052\, United States
CATEGORIES:Meetings
END:VEVENT
BEGIN:VEVENT
DTSTART;VALUE=DATE:20250316
DTEND;VALUE=DATE:20250317
DTSTAMP:20260420T052355
CREATED:20250211T024508Z
LAST-MODIFIED:20250211T024508Z
UID:221-1742083200-1742169599@essexshillelagh.com
SUMMARY:West Orange St. Patrick's Day Parade
DESCRIPTION:
URL:https://essexshillelagh.com/event/west-orange-st-patricks-day-parade/
LOCATION:Shillelagh Club\, 648 Prospect Ave\, West Orange\, NJ\, 07052\, United States
END:VEVENT
END:VCALENDAR