BEGIN:VCALENDAR
VERSION:2.0
PRODID:-//Friendly Sons of the Shillelagh - ECPv6.15.20//NONSGML v1.0//EN
CALSCALE:GREGORIAN
METHOD:PUBLISH
X-WR-CALNAME:Friendly Sons of the Shillelagh
X-ORIGINAL-URL:https://essexshillelagh.com
X-WR-CALDESC:Events for Friendly Sons of the Shillelagh
REFRESH-INTERVAL;VALUE=DURATION:PT1H
X-Robots-Tag:noindex
X-PUBLISHED-TTL:PT1H
BEGIN:VTIMEZONE
TZID:America/New_York
BEGIN:DAYLIGHT
TZOFFSETFROM:-0500
TZOFFSETTO:-0400
TZNAME:EDT
DTSTART:20240310T070000
END:DAYLIGHT
BEGIN:STANDARD
TZOFFSETFROM:-0400
TZOFFSETTO:-0500
TZNAME:EST
DTSTART:20241103T060000
END:STANDARD
BEGIN:DAYLIGHT
TZOFFSETFROM:-0500
TZOFFSETTO:-0400
TZNAME:EDT
DTSTART:20250309T070000
END:DAYLIGHT
BEGIN:STANDARD
TZOFFSETFROM:-0400
TZOFFSETTO:-0500
TZNAME:EST
DTSTART:20251102T060000
END:STANDARD
BEGIN:DAYLIGHT
TZOFFSETFROM:-0500
TZOFFSETTO:-0400
TZNAME:EDT
DTSTART:20260308T070000
END:DAYLIGHT
BEGIN:STANDARD
TZOFFSETFROM:-0400
TZOFFSETTO:-0500
TZNAME:EST
DTSTART:20261101T060000
END:STANDARD
END:VTIMEZONE
BEGIN:VEVENT
DTSTART;TZID=America/New_York:20250223T140000
DTEND;TZID=America/New_York:20250223T170000
DTSTAMP:20260420T063504
CREATED:20250211T023500Z
LAST-MODIFIED:20250211T023951Z
UID:206-1740319200-1740330000@essexshillelagh.com
SUMMARY:Deputy Grand Marshal Jim McGuire Pin Party
DESCRIPTION:You’re Invited to the Pin Party Honoring Deputy Grand Marshal of the 2025 West Orange St. Patrick’s Day Parade\, Jim McGuire! \nDrink Ticket\, DGM Pin\, Happy Hour Prices\, Light Food Fare\, and Pipers Galore! \nAll Proceeds to Benefit the Essex Shillelaghs GAA Program \nWhen: Sunday\, February 23\, 2025\nTime: 2:00 PM – 5:00 PM\nWhere: St. James Gate\, 167 Maplewood Ave.\, Maplewood\, NJ \n$25 PP Online\, $30 at the door. Kids under 21 Free. \nSo\, get ready for an afternoon of celebration and good times.
URL:https://essexshillelagh.com/event/deputy-grand-marshal-jim-mcguire-pin-party/
LOCATION:St. James Gate\, 167 Maplewood Ave.\, Maplewood\, NJ\, 07040\, United States
END:VEVENT
END:VCALENDAR